BEGIN:VCALENDAR
VERSION:2.0
PRODID:-//ÖSBV//Turnierkalender//DE
CALSCALE:GREGORIAN
METHOD:PUBLISH
X-WR-CALNAME:ÖSBV Turnierkalender
X-WR-TIMEZONE:Europe/Vienna
BEGIN:VEVENT
UID:oesbv-681@austriansnooker.at
DTSTART;VALUE=DATE:20260307
DTEND;VALUE=DATE:20260308
SUMMARY:Austrian Billiards Matchplay 2026
LOCATION:BLZ Wien\, Wien
URL:https://aussno.andeju.at/turnier/austrian-billiards-matchplay-2026/
DTSTAMP:20260319T020850Z
END:VEVENT
BEGIN:VEVENT
UID:oesbv-766@austriansnooker.at
DTSTART;VALUE=DATE:20260314
DTEND;VALUE=DATE:20260316
SUMMARY:1. LSV Vereinsmeisterschaft
LOCATION:HSG Graz\, Salzburg
URL:https://aussno.andeju.at/turnier/1-lsv-vereinsmeisterschaft/
DTSTAMP:20260319T014229Z
END:VEVENT
BEGIN:VEVENT
UID:oesbv-959@austriansnooker.at
DTSTART;VALUE=DATE:20260321
DTEND;VALUE=DATE:20260322
SUMMARY:1. LSV Vereinsmeisterschaft (Patrick-Kopie &#8211\; Updated)
LOCATION:HSG Graz\, Salzburg
URL:https://aussno.andeju.at/turnier/1-lsv-vereinsmeisterschaft-patrick-kopie/
DTSTAMP:20260319T132650Z
END:VEVENT
BEGIN:VEVENT
UID:oesbv-900@austriansnooker.at
DTSTART;VALUE=DATE:20260404
DTEND;VALUE=DATE:20260405
SUMMARY:Test-Qualifier
LOCATION:15Reds\, Wien
URL:https://aussno.andeju.at/turnier/test-qualifier/
DTSTAMP:20260319T020719Z
END:VEVENT
BEGIN:VEVENT
UID:oesbv-768@austriansnooker.at
DTSTART;VALUE=DATE:20260418
DTEND;VALUE=DATE:20260419
SUMMARY:ASL Challenge West &#8211\; 2 / 2026 &#8211\; CSC
LOCATION:Billard Sport Arena Innsbruck
URL:https://aussno.andeju.at/turnier/asl-challenge-west-2-2026-csc/
DTSTAMP:20260302T130646Z
END:VEVENT
BEGIN:VEVENT
UID:oesbv-842@austriansnooker.at
DTSTART;VALUE=DATE:20260425
DTEND;VALUE=DATE:20260426
SUMMARY:ASL Challenge West &#8211\; 2 / 2026 &#8211\; CSC (Kopie)
LOCATION:Billard Sport Arena Innsbruck
URL:https://aussno.andeju.at/turnier/asl-challenge-west-2-2026-csc-kopie/
DTSTAMP:20260308T031719Z
END:VEVENT
BEGIN:VEVENT
UID:oesbv-844@austriansnooker.at
DTSTART;VALUE=DATE:20260502
DTEND;VALUE=DATE:20260503
SUMMARY:ASL Challenge West &#8211\; 3 / 2026 &#8211\; CSC
LOCATION:Billard Sport Arena Innsbruck
URL:https://aussno.andeju.at/turnier/asl-challenge-west-3-2026-csc/
DTSTAMP:20260308T031819Z
END:VEVENT
BEGIN:VEVENT
UID:oesbv-868@austriansnooker.at
DTSTART;VALUE=DATE:20260523
DTEND;VALUE=DATE:20260524
SUMMARY:ASL Challenge West &#8211\; 3 / 2026 &#8211\; CSC
LOCATION:HSEBC\, Wien
URL:https://aussno.andeju.at/turnier/asl-challenge-west-3-2026-csc-2/
DTSTAMP:20260311T155945Z
END:VEVENT
BEGIN:VEVENT
UID:oesbv-878@austriansnooker.at
DTSTART;VALUE=DATE:20260627
DTEND;VALUE=DATE:20260628
SUMMARY:EB-Test
LOCATION:Billard Sport Arena Innsbruck\, Innsbruck
URL:https://aussno.andeju.at/turnier/eb-test/
DTSTAMP:20260319T132321Z
END:VEVENT
BEGIN:VEVENT
UID:oesbv-901@austriansnooker.at
DTSTART;VALUE=DATE:20260704
DTEND;VALUE=DATE:20260705
SUMMARY:EB-Test für Patrick
LOCATION:Billard Sport Arena Innsbruck\, Innsbruck
URL:https://aussno.andeju.at/turnier/eb-test-fuer-patrick/
DTSTAMP:20260319T015603Z
END:VEVENT
BEGIN:VEVENT
UID:oesbv-902@austriansnooker.at
DTSTART;VALUE=DATE:20260711
DTEND;VALUE=DATE:20260712
SUMMARY:🥳 Party-Turnier
LOCATION:HSEBC\, Wien
URL:https://aussno.andeju.at/turnier/%f0%9f%a5%b3-party-turnier/
DTSTAMP:20260319T015516Z
END:VEVENT
BEGIN:VEVENT
UID:oesbv-869@austriansnooker.at
DTSTART;VALUE=DATE:20260926
DTEND;VALUE=DATE:20260927
SUMMARY:ASL Challenge Ost &#8211\; 4 / 2026 &#8211\; HSEBC
LOCATION:HSEBC\, Wien
URL:https://aussno.andeju.at/turnier/asl-challenge-ost-4-2026-hsebc/
DTSTAMP:20260319T015702Z
END:VEVENT
END:VCALENDAR
